BEGIN:VCALENDAR
VERSION:2.0
PRODID:-//Bromsgrove Astronomical Society - ECPv6.15.20//NONSGML v1.0//EN
CALSCALE:GREGORIAN
METHOD:PUBLISH
X-ORIGINAL-URL:https://broms-astro.org.uk
X-WR-CALDESC:Events for Bromsgrove Astronomical Society
REFRESH-INTERVAL;VALUE=DURATION:PT1H
X-Robots-Tag:noindex
X-PUBLISHED-TTL:PT1H
BEGIN:VTIMEZONE
TZID:UTC
BEGIN:STANDARD
TZOFFSETFROM:+0000
TZOFFSETTO:+0000
TZNAME:UTC
DTSTART:20190101T000000
END:STANDARD
END:VTIMEZONE
BEGIN:VEVENT
DTSTART;TZID=UTC:20201120T180000
DTEND;TZID=UTC:20201120T193000
DTSTAMP:20260425T205516
CREATED:20201010T134252Z
LAST-MODIFIED:20201010T134252Z
UID:10000458-1605895200-1605900600@broms-astro.org.uk
SUMMARY:Redditch U3A - Via Zoom - 'Black Holes'
DESCRIPTION:NB: Time not confirmed
URL:https://broms-astro.org.uk/event/redditch-u3a-via-zoom-black-holes/
CATEGORIES:Outreach
END:VEVENT
END:VCALENDAR