BEGIN:VCALENDAR
VERSION:2.0
PRODID:-//Bromsgrove Astronomical Society - ECPv6.15.17.1//NONSGML v1.0//EN
CALSCALE:GREGORIAN
METHOD:PUBLISH
X-WR-CALNAME:Bromsgrove Astronomical Society
X-ORIGINAL-URL:https://broms-astro.org.uk
X-WR-CALDESC:Events for Bromsgrove Astronomical Society
REFRESH-INTERVAL;VALUE=DURATION:PT1H
X-Robots-Tag:noindex
X-PUBLISHED-TTL:PT1H
BEGIN:VTIMEZONE
TZID:UTC
BEGIN:STANDARD
TZOFFSETFROM:+0000
TZOFFSETTO:+0000
TZNAME:UTC
DTSTART:20240101T000000
END:STANDARD
END:VTIMEZONE
BEGIN:VEVENT
DTSTART;TZID=UTC:20250421T200000
DTEND;TZID=UTC:20250421T210000
DTSTAMP:20260419T215212
CREATED:20240923T150239Z
LAST-MODIFIED:20240923T150239Z
UID:10000702-1745265600-1745269200@broms-astro.org.uk
SUMMARY:No Meeting - Easter Bank Holiday
DESCRIPTION:
URL:https://broms-astro.org.uk/event/no-meeting-easter-bank-holiday/
CATEGORIES:Formal
END:VEVENT
END:VCALENDAR