BEGIN:VCALENDAR
VERSION:2.0
PRODID:-//Bromsgrove Astronomical Society - ECPv6.15.17.1//NONSGML v1.0//EN
CALSCALE:GREGORIAN
METHOD:PUBLISH
X-WR-CALNAME:Bromsgrove Astronomical Society
X-ORIGINAL-URL:https://broms-astro.org.uk
X-WR-CALDESC:Events for Bromsgrove Astronomical Society
REFRESH-INTERVAL;VALUE=DURATION:PT1H
X-Robots-Tag:noindex
X-PUBLISHED-TTL:PT1H
BEGIN:VTIMEZONE
TZID:UTC
BEGIN:STANDARD
TZOFFSETFROM:+0000
TZOFFSETTO:+0000
TZNAME:UTC
DTSTART:20240101T000000
END:STANDARD
END:VTIMEZONE
BEGIN:VEVENT
DTSTART;TZID=UTC:20250721T200000
DTEND;TZID=UTC:20250721T220000
DTSTAMP:20260419T191115
CREATED:20250227T115108Z
LAST-MODIFIED:20250227T115108Z
UID:10000705-1753128000-1753135200@broms-astro.org.uk
SUMMARY:Ben Evans - 'Spacewalking: 60 years of Stepping Into the Void'
DESCRIPTION:
URL:https://broms-astro.org.uk/event/ben-evans-spacewalking-60-years-of-stepping-into-the-void/
CATEGORIES:Formal
END:VEVENT
END:VCALENDAR