BEGIN:VCALENDAR
VERSION:2.0
PRODID:-//Bromsgrove Astronomical Society - ECPv6.15.20//NONSGML v1.0//EN
CALSCALE:GREGORIAN
METHOD:PUBLISH
X-ORIGINAL-URL:https://broms-astro.org.uk
X-WR-CALDESC:Events for Bromsgrove Astronomical Society
REFRESH-INTERVAL;VALUE=DURATION:PT1H
X-Robots-Tag:noindex
X-PUBLISHED-TTL:PT1H
BEGIN:VTIMEZONE
TZID:UTC
BEGIN:STANDARD
TZOFFSETFROM:+0000
TZOFFSETTO:+0000
TZNAME:UTC
DTSTART:20190101T000000
END:STANDARD
END:VTIMEZONE
BEGIN:VEVENT
DTSTART;TZID=UTC:20201221T200000
DTEND;TZID=UTC:20201221T220000
DTSTAMP:20260423T200441
CREATED:20200913T111824Z
LAST-MODIFIED:20200913T111824Z
UID:10000447-1608580800-1608588000@broms-astro.org.uk
SUMMARY:Meeting via Zoom - Covid-19 - Dr Steve Barrett - 'Science of Santa'
DESCRIPTION:A short stocking filler for the festive season.
URL:https://broms-astro.org.uk/event/meeting-via-zoom-covid-19-dr-steve-barrett-science-of-santa/
CATEGORIES:Formal
END:VEVENT
END:VCALENDAR