BEGIN:VCALENDAR
VERSION:2.0
PRODID:-//Bromsgrove Astronomical Society - ECPv6.15.20//NONSGML v1.0//EN
CALSCALE:GREGORIAN
METHOD:PUBLISH
X-ORIGINAL-URL:https://broms-astro.org.uk
X-WR-CALDESC:Events for Bromsgrove Astronomical Society
REFRESH-INTERVAL;VALUE=DURATION:PT1H
X-Robots-Tag:noindex
X-PUBLISHED-TTL:PT1H
BEGIN:VTIMEZONE
TZID:UTC
BEGIN:STANDARD
TZOFFSETFROM:+0000
TZOFFSETTO:+0000
TZNAME:UTC
DTSTART:20200101T000000
END:STANDARD
END:VTIMEZONE
BEGIN:VEVENT
DTSTART;TZID=UTC:20210816T200000
DTEND;TZID=UTC:20210816T220000
DTSTAMP:20260423T064245
CREATED:20210303T105119Z
LAST-MODIFIED:20210504T115749Z
UID:10000462-1629144000-1629151200@broms-astro.org.uk
SUMMARY:Dr John Davies - 'Sample Return Missions to Near Earth Asteroids' - Zoom
DESCRIPTION:
URL:https://broms-astro.org.uk/event/dr-john-davies-sample-return-missions-to-near-earth-asteroids/
CATEGORIES:Formal
END:VEVENT
END:VCALENDAR