BEGIN:VCALENDAR
VERSION:2.0
PRODID:-//Bromsgrove Astronomical Society - ECPv6.15.20//NONSGML v1.0//EN
CALSCALE:GREGORIAN
METHOD:PUBLISH
X-WR-CALNAME:Bromsgrove Astronomical Society
X-ORIGINAL-URL:https://broms-astro.org.uk
X-WR-CALDESC:Events for Bromsgrove Astronomical Society
REFRESH-INTERVAL;VALUE=DURATION:PT1H
X-Robots-Tag:noindex
X-PUBLISHED-TTL:PT1H
BEGIN:VTIMEZONE
TZID:UTC
BEGIN:STANDARD
TZOFFSETFROM:+0000
TZOFFSETTO:+0000
TZNAME:UTC
DTSTART:20200101T000000
END:STANDARD
END:VTIMEZONE
BEGIN:VEVENT
DTSTART;TZID=UTC:20211018T200000
DTEND;TZID=UTC:20211018T220000
DTSTAMP:20260423T031159
CREATED:20200913T113656Z
LAST-MODIFIED:20201103T093959Z
UID:10000454-1634587200-1634594400@broms-astro.org.uk
SUMMARY:Member's Night - 'Short presentations by Society members'
DESCRIPTION:
URL:https://broms-astro.org.uk/event/tba/
CATEGORIES:Formal
END:VEVENT
END:VCALENDAR