BEGIN:VCALENDAR
VERSION:2.0
PRODID:-//Bromsgrove Astronomical Society - ECPv6.15.20//NONSGML v1.0//EN
CALSCALE:GREGORIAN
METHOD:PUBLISH
X-ORIGINAL-URL:https://broms-astro.org.uk
X-WR-CALDESC:Events for Bromsgrove Astronomical Society
REFRESH-INTERVAL;VALUE=DURATION:PT1H
X-Robots-Tag:noindex
X-PUBLISHED-TTL:PT1H
BEGIN:VTIMEZONE
TZID:UTC
BEGIN:STANDARD
TZOFFSETFROM:+0000
TZOFFSETTO:+0000
TZNAME:UTC
DTSTART:20210101T000000
END:STANDARD
END:VTIMEZONE
BEGIN:VEVENT
DTSTART;TZID=UTC:20220620T200000
DTEND;TZID=UTC:20220620T220000
DTSTAMP:20260422T121410
CREATED:20211216T123435Z
LAST-MODIFIED:20211216T123435Z
UID:10000488-1655755200-1655762400@broms-astro.org.uk
SUMMARY:Sue Dipple - 'Proud\, Thrilled and Happy - The Women who put a Man on the Moon'
DESCRIPTION:
URL:https://broms-astro.org.uk/event/sue-dipple-proud-thrilled-and-happy-the-women-who-put-a-man-on-the-moon/
CATEGORIES:Formal
END:VEVENT
END:VCALENDAR