BEGIN:VCALENDAR
VERSION:2.0
PRODID:-//Bromsgrove Astronomical Society - ECPv6.15.17.1//NONSGML v1.0//EN
CALSCALE:GREGORIAN
METHOD:PUBLISH
X-WR-CALNAME:Bromsgrove Astronomical Society
X-ORIGINAL-URL:https://broms-astro.org.uk
X-WR-CALDESC:Events for Bromsgrove Astronomical Society
REFRESH-INTERVAL;VALUE=DURATION:PT1H
X-Robots-Tag:noindex
X-PUBLISHED-TTL:PT1H
BEGIN:VTIMEZONE
TZID:UTC
BEGIN:STANDARD
TZOFFSETFROM:+0000
TZOFFSETTO:+0000
TZNAME:UTC
DTSTART:20220101T000000
END:STANDARD
END:VTIMEZONE
BEGIN:VEVENT
DTSTART;TZID=UTC:20230821T200000
DTEND;TZID=UTC:20230821T220000
DTSTAMP:20260421T103302
CREATED:20230130T171939Z
LAST-MODIFIED:20230704T093622Z
UID:10000621-1692648000-1692655200@broms-astro.org.uk
SUMMARY:Dr Steve Barrett - 'Fiat Lux IV Colour in the Cosmos'
DESCRIPTION:
URL:https://broms-astro.org.uk/event/dr-steve-barrett-fiat-lux-iv-colour-in-the-cosmos/
CATEGORIES:Formal
END:VEVENT
END:VCALENDAR