BEGIN:VCALENDAR
VERSION:2.0
PRODID:-//Bromsgrove Astronomical Society - ECPv6.15.17.1//NONSGML v1.0//EN
CALSCALE:GREGORIAN
METHOD:PUBLISH
X-ORIGINAL-URL:https://broms-astro.org.uk
X-WR-CALDESC:Events for Bromsgrove Astronomical Society
REFRESH-INTERVAL;VALUE=DURATION:PT1H
X-Robots-Tag:noindex
X-PUBLISHED-TTL:PT1H
BEGIN:VTIMEZONE
TZID:UTC
BEGIN:STANDARD
TZOFFSETFROM:+0000
TZOFFSETTO:+0000
TZNAME:UTC
DTSTART:20230101T000000
END:STANDARD
END:VTIMEZONE
BEGIN:VEVENT
DTSTART;TZID=UTC:20240318T200000
DTEND;TZID=UTC:20240318T220000
DTSTAMP:20260420T213721
CREATED:20231109T155813Z
LAST-MODIFIED:20240108T144903Z
UID:10000629-1710792000-1710799200@broms-astro.org.uk
SUMMARY:Dr Steve Barrett 'Cosmic Rays'
DESCRIPTION:Cosmic Rays\nHigh-energy charged particles are continually raining down on the Earth. Where do they come from and how do they gain so much energy? This talk includes a demonstration of a cloud chamber that allows cosmic rays to be seen.
URL:https://broms-astro.org.uk/event/dr-steve-barrett-cosmic-rays/
CATEGORIES:Formal
END:VEVENT
END:VCALENDAR