BEGIN:VCALENDAR
VERSION:2.0
PRODID:-//Bromsgrove Astronomical Society - ECPv6.15.17.1//NONSGML v1.0//EN
CALSCALE:GREGORIAN
METHOD:PUBLISH
X-WR-CALNAME:Bromsgrove Astronomical Society
X-ORIGINAL-URL:https://broms-astro.org.uk
X-WR-CALDESC:Events for Bromsgrove Astronomical Society
REFRESH-INTERVAL;VALUE=DURATION:PT1H
X-Robots-Tag:noindex
X-PUBLISHED-TTL:PT1H
BEGIN:VTIMEZONE
TZID:UTC
BEGIN:STANDARD
TZOFFSETFROM:+0000
TZOFFSETTO:+0000
TZNAME:UTC
DTSTART:20230101T000000
END:STANDARD
END:VTIMEZONE
BEGIN:VEVENT
DTSTART;TZID=UTC:20240906T080000
DTEND;TZID=UTC:20240908T170000
DTSTAMP:20260420T103738
CREATED:20240717T214506Z
LAST-MODIFIED:20240717T214837Z
UID:10000691-1725609600-1725814800@broms-astro.org.uk
SUMMARY:2024 Star Party
DESCRIPTION:2024 Star Party \nClick [here]  for details.
URL:https://broms-astro.org.uk/event/2024-star-party/
CATEGORIES:Formal
END:VEVENT
BEGIN:VEVENT
DTSTART;TZID=UTC:20240916T200000
DTEND;TZID=UTC:20240916T220000
DTSTAMP:20260420T103738
CREATED:20240105T150801Z
LAST-MODIFIED:20240105T150801Z
UID:10000681-1726516800-1726524000@broms-astro.org.uk
SUMMARY:Mike Frost - 'The Yerkes Observatory'
DESCRIPTION:
URL:https://broms-astro.org.uk/event/mike-frost-the-yerkes-observatory/
CATEGORIES:Formal
END:VEVENT
END:VCALENDAR