BEGIN:VCALENDAR
VERSION:2.0
PRODID:-//Bromsgrove Astronomical Society - ECPv6.15.20//NONSGML v1.0//EN
CALSCALE:GREGORIAN
METHOD:PUBLISH
X-ORIGINAL-URL:https://broms-astro.org.uk
X-WR-CALDESC:Events for Bromsgrove Astronomical Society
REFRESH-INTERVAL;VALUE=DURATION:PT1H
X-Robots-Tag:noindex
X-PUBLISHED-TTL:PT1H
BEGIN:VTIMEZONE
TZID:UTC
BEGIN:STANDARD
TZOFFSETFROM:+0000
TZOFFSETTO:+0000
TZNAME:UTC
DTSTART:20200101T000000
END:STANDARD
END:VTIMEZONE
BEGIN:VEVENT
DTSTART;TZID=UTC:20210118T200000
DTEND;TZID=UTC:20210118T220000
DTSTAMP:20260423T200514
CREATED:20200913T111958Z
LAST-MODIFIED:20210111T110833Z
UID:10000448-1611000000-1611007200@broms-astro.org.uk
SUMMARY:Dave Jones - 'Search for Extraterrestrial life'
DESCRIPTION:
URL:https://broms-astro.org.uk/event/dave-jones-tba/
CATEGORIES:Formal
END:VEVENT
END:VCALENDAR