BEGIN:VCALENDAR
VERSION:2.0
PRODID:-//Bromsgrove Astronomical Society - ECPv6.15.20//NONSGML v1.0//EN
CALSCALE:GREGORIAN
METHOD:PUBLISH
X-ORIGINAL-URL:https://broms-astro.org.uk
X-WR-CALDESC:Events for Bromsgrove Astronomical Society
REFRESH-INTERVAL;VALUE=DURATION:PT1H
X-Robots-Tag:noindex
X-PUBLISHED-TTL:PT1H
BEGIN:VTIMEZONE
TZID:UTC
BEGIN:STANDARD
TZOFFSETFROM:+0000
TZOFFSETTO:+0000
TZNAME:UTC
DTSTART:20200101T000000
END:STANDARD
END:VTIMEZONE
BEGIN:VEVENT
DTSTART;TZID=UTC:20210215T200000
DTEND;TZID=UTC:20210215T220000
DTSTAMP:20260423T182239
CREATED:20200913T112138Z
LAST-MODIFIED:20200913T113240Z
UID:10000449-1613419200-1613426400@broms-astro.org.uk
SUMMARY:Dr Steve Barrett - 'ABC of Galaxy Evolution'
DESCRIPTION:
URL:https://broms-astro.org.uk/event/dr-steve-barrett-abc-of-galaxy-evolution/
CATEGORIES:Formal
END:VEVENT
END:VCALENDAR