BEGIN:VCALENDAR
VERSION:2.0
PRODID:-//Bromsgrove Astronomical Society - ECPv6.15.20//NONSGML v1.0//EN
CALSCALE:GREGORIAN
METHOD:PUBLISH
X-WR-CALNAME:Bromsgrove Astronomical Society
X-ORIGINAL-URL:https://broms-astro.org.uk
X-WR-CALDESC:Events for Bromsgrove Astronomical Society
REFRESH-INTERVAL;VALUE=DURATION:PT1H
X-Robots-Tag:noindex
X-PUBLISHED-TTL:PT1H
BEGIN:VTIMEZONE
TZID:UTC
BEGIN:STANDARD
TZOFFSETFROM:+0000
TZOFFSETTO:+0000
TZNAME:UTC
DTSTART:20210101T000000
END:STANDARD
END:VTIMEZONE
BEGIN:VEVENT
DTSTART;TZID=UTC:20220815T200000
DTEND;TZID=UTC:20220815T220000
DTSTAMP:20260422T103212
CREATED:20220302T105935Z
LAST-MODIFIED:20220813T091535Z
UID:10000489-1660593600-1660600800@broms-astro.org.uk
SUMMARY:Dr Lee Macdonald - 'Kew Observatory and the Birth of Solar-Terrestrial Physics’
DESCRIPTION:
URL:https://broms-astro.org.uk/event/dr-lee-macdonald-kew-observatory-and-the-birth-of-solar-terrestrial-physics/
CATEGORIES:Formal
END:VEVENT
END:VCALENDAR