BEGIN:VCALENDAR
VERSION:2.0
PRODID:-//Bromsgrove Astronomical Society - ECPv6.15.20//NONSGML v1.0//EN
CALSCALE:GREGORIAN
METHOD:PUBLISH
X-WR-CALNAME:Bromsgrove Astronomical Society
X-ORIGINAL-URL:https://broms-astro.org.uk
X-WR-CALDESC:Events for Bromsgrove Astronomical Society
REFRESH-INTERVAL;VALUE=DURATION:PT1H
X-Robots-Tag:noindex
X-PUBLISHED-TTL:PT1H
BEGIN:VTIMEZONE
TZID:UTC
BEGIN:STANDARD
TZOFFSETFROM:+0000
TZOFFSETTO:+0000
TZNAME:UTC
DTSTART:20220101T000000
END:STANDARD
END:VTIMEZONE
BEGIN:VEVENT
DTSTART;TZID=UTC:20230717T200000
DTEND;TZID=UTC:20230717T220000
DTSTAMP:20260421T140846
CREATED:20230305T163229Z
LAST-MODIFIED:20230305T163229Z
UID:10000626-1689624000-1689631200@broms-astro.org.uk
SUMMARY:Sue & Rob Dipple - 'The Leviathan of Parsonstown - Lord Rosse's Telescope at Birr Castle'
DESCRIPTION:
URL:https://broms-astro.org.uk/event/sue-rob-dipple-the-leviathan-of-parsonstown-lord-rosses-telescope-at-birr-castle/
CATEGORIES:Formal
END:VEVENT
END:VCALENDAR