BEGIN:VCALENDAR
VERSION:2.0
PRODID:-//Bromsgrove Astronomical Society - ECPv6.15.17.1//NONSGML v1.0//EN
CALSCALE:GREGORIAN
METHOD:PUBLISH
X-WR-CALNAME:Bromsgrove Astronomical Society
X-ORIGINAL-URL:https://broms-astro.org.uk
X-WR-CALDESC:Events for Bromsgrove Astronomical Society
REFRESH-INTERVAL;VALUE=DURATION:PT1H
X-Robots-Tag:noindex
X-PUBLISHED-TTL:PT1H
BEGIN:VTIMEZONE
TZID:UTC
BEGIN:STANDARD
TZOFFSETFROM:+0000
TZOFFSETTO:+0000
TZNAME:UTC
DTSTART:20220101T000000
END:STANDARD
END:VTIMEZONE
BEGIN:VEVENT
DTSTART;TZID=UTC:20231218T200000
DTEND;TZID=UTC:20231218T220000
DTSTAMP:20260421T045153
CREATED:20230130T172228Z
LAST-MODIFIED:20230130T172228Z
UID:10000622-1702929600-1702936800@broms-astro.org.uk
SUMMARY:'Christmas Crackers and Mince Pies' - Short talks by Members
DESCRIPTION:
URL:https://broms-astro.org.uk/event/christmas-crackers-and-mince-pies-short-talks-by-members/
CATEGORIES:Formal
END:VEVENT
END:VCALENDAR