BEGIN:VCALENDAR
VERSION:2.0
PRODID:-//Bromsgrove Astronomical Society - ECPv6.15.17.1//NONSGML v1.0//EN
CALSCALE:GREGORIAN
METHOD:PUBLISH
X-ORIGINAL-URL:https://broms-astro.org.uk
X-WR-CALDESC:Events for Bromsgrove Astronomical Society
REFRESH-INTERVAL;VALUE=DURATION:PT1H
X-Robots-Tag:noindex
X-PUBLISHED-TTL:PT1H
BEGIN:VTIMEZONE
TZID:UTC
BEGIN:STANDARD
TZOFFSETFROM:+0000
TZOFFSETTO:+0000
TZNAME:UTC
DTSTART:20250101T000000
END:STANDARD
END:VTIMEZONE
BEGIN:VEVENT
DTSTART;TZID=UTC:20261019T200000
DTEND;TZID=UTC:20261019T220000
DTSTAMP:20260419T121926
CREATED:20251204T122336Z
LAST-MODIFIED:20260213T212210Z
UID:10000740-1792440000-1792447200@broms-astro.org.uk
SUMMARY:Prof Elizabeth Stanway - Cosmic Catastrophes
DESCRIPTION:Fictions involving catastrophic cosmic explosions such as novae or supernovae range from narratives of a heroic\, constructive drive outwards into the Universe to depressing and destructive apocalyptic fictions which posit the destruction of human culture and perhaps humanity itself. SF case studies nonetheless represent a rare engagement of popular culture with the details of stellar astrophysics\, and a useful starting point from which to engage in a wider discussion about the ultimate fate of stars and our place in the Universe. \nhttps://warwick.ac.uk/fac/sci/physics/research/astro/people/stanway/sciencefiction/nam2022_stanway_open_69.pdf
URL:https://broms-astro.org.uk/event/prof-elizabeth-stanway-cosmic-catastrophes/
CATEGORIES:Formal
END:VEVENT
END:VCALENDAR