BEGIN:VCALENDAR
VERSION:2.0
PRODID:-//Bromsgrove Astronomical Society - ECPv6.15.20//NONSGML v1.0//EN
CALSCALE:GREGORIAN
METHOD:PUBLISH
X-WR-CALNAME:Bromsgrove Astronomical Society
X-ORIGINAL-URL:https://broms-astro.org.uk
X-WR-CALDESC:Events for Bromsgrove Astronomical Society
REFRESH-INTERVAL;VALUE=DURATION:PT1H
X-Robots-Tag:noindex
X-PUBLISHED-TTL:PT1H
BEGIN:VTIMEZONE
TZID:UTC
BEGIN:STANDARD
TZOFFSETFROM:+0000
TZOFFSETTO:+0000
TZNAME:UTC
DTSTART:20200101T000000
END:STANDARD
END:VTIMEZONE
BEGIN:VEVENT
DTSTART;TZID=UTC:20211206T200000
DTEND;TZID=UTC:20211206T220000
DTSTAMP:20260424T194422
CREATED:20210706T101947Z
LAST-MODIFIED:20221011T031215Z
UID:10000473-1638820800-1638828000@broms-astro.org.uk
SUMMARY:Next Informal Meeting
DESCRIPTION:Primarily an Observing Evening. If not clear then general discussion\, help for those who require it.
URL:https://broms-astro.org.uk/event/next-informal-meeting-3-2021-11-01/2021-12-06/
CATEGORIES:Informal
END:VEVENT
BEGIN:VEVENT
DTSTART;TZID=UTC:20211220T200000
DTEND;TZID=UTC:20211220T220000
DTSTAMP:20260424T194422
CREATED:20200913T112309Z
LAST-MODIFIED:20211216T124139Z
UID:10000450-1640030400-1640037600@broms-astro.org.uk
SUMMARY:Informal Meeting outside.
DESCRIPTION:
URL:https://broms-astro.org.uk/event/sue-dipple-the-women-who-put-a-man-on-the-moon/
CATEGORIES:Formal
END:VEVENT
END:VCALENDAR