BEGIN:VCALENDAR
VERSION:2.0
PRODID:-//Bromsgrove Astronomical Society - ECPv6.15.20//NONSGML v1.0//EN
CALSCALE:GREGORIAN
METHOD:PUBLISH
X-ORIGINAL-URL:https://broms-astro.org.uk
X-WR-CALDESC:Events for Bromsgrove Astronomical Society
REFRESH-INTERVAL;VALUE=DURATION:PT1H
X-Robots-Tag:noindex
X-PUBLISHED-TTL:PT1H
BEGIN:VTIMEZONE
TZID:UTC
BEGIN:STANDARD
TZOFFSETFROM:+0000
TZOFFSETTO:+0000
TZNAME:UTC
DTSTART:20210101T000000
END:STANDARD
END:VTIMEZONE
BEGIN:VEVENT
DTSTART;TZID=UTC:20220502T200000
DTEND;TZID=UTC:20220502T220000
DTSTAMP:20260424T103306
CREATED:20210706T101947Z
LAST-MODIFIED:20221011T031215Z
UID:10000478-1651521600-1651528800@broms-astro.org.uk
SUMMARY:Next Informal Meeting
DESCRIPTION:Primarily an Observing Evening. If not clear then general discussion\, help for those who require it.
URL:https://broms-astro.org.uk/event/next-informal-meeting-3-2021-11-01/2022-05-02/
CATEGORIES:Informal
END:VEVENT
BEGIN:VEVENT
DTSTART;TZID=UTC:20220516T200000
DTEND;TZID=UTC:20220516T220000
DTSTAMP:20260424T103306
CREATED:20210706T101512Z
LAST-MODIFIED:20211201T141800Z
UID:10000468-1652731200-1652738400@broms-astro.org.uk
SUMMARY:Guest Speaker - 'TBA'
DESCRIPTION:
URL:https://broms-astro.org.uk/event/tba-3/
CATEGORIES:Formal
END:VEVENT
END:VCALENDAR