BEGIN:VCALENDAR
VERSION:2.0
PRODID:-//Bromsgrove Astronomical Society - ECPv6.15.20//NONSGML v1.0//EN
CALSCALE:GREGORIAN
METHOD:PUBLISH
X-ORIGINAL-URL:https://broms-astro.org.uk
X-WR-CALDESC:Events for Bromsgrove Astronomical Society
REFRESH-INTERVAL;VALUE=DURATION:PT1H
X-Robots-Tag:noindex
X-PUBLISHED-TTL:PT1H
BEGIN:VTIMEZONE
TZID:UTC
BEGIN:STANDARD
TZOFFSETFROM:+0000
TZOFFSETTO:+0000
TZNAME:UTC
DTSTART:20220101T000000
END:STANDARD
END:VTIMEZONE
BEGIN:VEVENT
DTSTART;TZID=UTC:20231002T200000
DTEND;TZID=UTC:20231002T220000
DTSTAMP:20260423T045619
CREATED:20221011T102940Z
LAST-MODIFIED:20221011T103935Z
UID:10000530-1696276800-1696284000@broms-astro.org.uk
SUMMARY:Next Informal Meeting
DESCRIPTION:Primarily an Observing Evening. If not clear then general discussion\, help for those who require it.
URL:https://broms-astro.org.uk/event/next-informal-meeting-2/2023-10-02/
CATEGORIES:Informal
END:VEVENT
BEGIN:VEVENT
DTSTART;TZID=UTC:20231016T200000
DTEND;TZID=UTC:20231016T220000
DTSTAMP:20260423T045619
CREATED:20230125T131216Z
LAST-MODIFIED:20230125T131552Z
UID:10000619-1697486400-1697493600@broms-astro.org.uk
SUMMARY:Professor Nial Tanvir - Gamma-Ray Bursts - The Biggest Bangs In The Universe
DESCRIPTION:
URL:https://broms-astro.org.uk/event/professor-nial-tanvir-gamma-ray-bursts-the-biggest-bangs-in-the-universe/
CATEGORIES:Formal
END:VEVENT
END:VCALENDAR